BEGIN:VCALENDAR
VERSION:2.0
PRODID:-// - ECPv6.15.17.1//NONSGML v1.0//EN
CALSCALE:GREGORIAN
METHOD:PUBLISH
X-ORIGINAL-URL:http://ogmarket.ng
X-WR-CALDESC:Events for 
REFRESH-INTERVAL;VALUE=DURATION:PT1H
X-Robots-Tag:noindex
X-PUBLISHED-TTL:PT1H
BEGIN:VTIMEZONE
TZID:Africa/Lagos
BEGIN:STANDARD
TZOFFSETFROM:+0100
TZOFFSETTO:+0100
TZNAME:WAT
DTSTART:20250101T000000
END:STANDARD
END:VTIMEZONE
BEGIN:VEVENT
DTSTART;TZID=Africa/Lagos:20260412T150000
DTEND;TZID=Africa/Lagos:20260412T150000
DTSTAMP:20260424T124437
CREATED:20260315T141648Z
LAST-MODIFIED:20260412T133708Z
UID:304-1776006000-1776006000@ogmarket.ng
SUMMARY:Moonlight Screens
DESCRIPTION:Moonlight Screens is an outdoor movie and lifestyle experience created to deliver carefully curated entertainment in a relaxed and vibrant atmosphere. It brings people together under the night sky to enjoy great films\, music\, engaging activities\, and memorable social moments. \nGuests can enjoy a carefully selected movie on a large outdoor screen while lounging comfortably with friends\, partners\, and family. The experience is complemented by great food\, refreshing drinks\, engaging vendors\, and a lively social environment that encourages people to unwind\, connect\, and enjoy the moment.
URL:http://ogmarket.ng/event/moonlightscreens/
LOCATION:Oracle Of God\, Oracle Of God\, DBS Road\, Asaba\, Delta State\, Nigeria
CATEGORIES:Others,Outdoor Rave
ATTACH;FMTTYPE=image/jpeg:http://ogmarket.ng/wp-content/uploads/2026/03/IMG-20260403-WA0002.jpg
ORGANIZER;CN="Moonlight Screens":MAILTO:Infomoonlightscreens@gmail.com
END:VEVENT
BEGIN:VEVENT
DTSTART;TZID=Africa/Lagos:20260331T180000
DTEND;TZID=Africa/Lagos:20260331T233000
DTSTAMP:20260424T124437
CREATED:20260222T112255Z
LAST-MODIFIED:20260315T150203Z
UID:94-1774980000-1774999800@ogmarket.ng
SUMMARY:Wild Tribe
DESCRIPTION:
URL:http://ogmarket.ng/event/wild-tribe/
LOCATION:Main Market\, Warri\, Delta State Nigeria\, Warri\, 11223344\, Nigeria
ATTACH;FMTTYPE=image/jpeg:http://ogmarket.ng/wp-content/uploads/2026/02/makola.jpg
ORGANIZER;CN="CBM":MAILTO:osunylian@gmail.com
END:VEVENT
BEGIN:VEVENT
DTSTART;TZID=Africa/Lagos:20260322T130000
DTEND;TZID=Africa/Lagos:20260322T130000
DTSTAMP:20260424T124437
CREATED:20260309T110023Z
LAST-MODIFIED:20260309T125101Z
UID:237-1774184400-1774184400@ogmarket.ng
SUMMARY:MC Decent De Tailor "IMAGINE"
DESCRIPTION:
URL:http://ogmarket.ng/event/imagine/
LOCATION:Wetland Event Centre\, Mudiaga Off Robbinson Plaza\, Warri\, Delta State.\, Mudiaga street\, off Robbinson Plaza\, Warri\, Delta\, 332211\, Nigeria
CATEGORIES:Comedy
ATTACH;FMTTYPE=image/jpeg:http://ogmarket.ng/wp-content/uploads/2026/03/Screenshot_20260309_101858_Gallery.jpg
END:VEVENT
END:VCALENDAR